BEGIN:VCALENDAR
VERSION:2.0
PRODID:-//Coastal Mountains Land Trust - ECPv6.15.20//NONSGML v1.0//EN
CALSCALE:GREGORIAN
METHOD:PUBLISH
X-WR-CALNAME:Coastal Mountains Land Trust
X-ORIGINAL-URL:https://www.coastalmountains.org
X-WR-CALDESC:Events for Coastal Mountains Land Trust
REFRESH-INTERVAL;VALUE=DURATION:PT1H
X-Robots-Tag:noindex
X-PUBLISHED-TTL:PT1H
BEGIN:VTIMEZONE
TZID:America/New_York
BEGIN:DAYLIGHT
TZOFFSETFROM:-0500
TZOFFSETTO:-0400
TZNAME:EDT
DTSTART:20220313T070000
END:DAYLIGHT
BEGIN:STANDARD
TZOFFSETFROM:-0400
TZOFFSETTO:-0500
TZNAME:EST
DTSTART:20221106T060000
END:STANDARD
BEGIN:DAYLIGHT
TZOFFSETFROM:-0500
TZOFFSETTO:-0400
TZNAME:EDT
DTSTART:20230312T070000
END:DAYLIGHT
BEGIN:STANDARD
TZOFFSETFROM:-0400
TZOFFSETTO:-0500
TZNAME:EST
DTSTART:20231105T060000
END:STANDARD
BEGIN:DAYLIGHT
TZOFFSETFROM:-0500
TZOFFSETTO:-0400
TZNAME:EDT
DTSTART:20240310T070000
END:DAYLIGHT
BEGIN:STANDARD
TZOFFSETFROM:-0400
TZOFFSETTO:-0500
TZNAME:EST
DTSTART:20241103T060000
END:STANDARD
END:VTIMEZONE
BEGIN:VEVENT
DTSTART;TZID=America/New_York:20231207T100000
DTEND;TZID=America/New_York:20231207T120000
DTSTAMP:20260423T173239
CREATED:20230606T180031Z
LAST-MODIFIED:20231207T164639Z
UID:11356-1701943200-1701950400@www.coastalmountains.org
SUMMARY:Happy Wanderers Hike: Thorndike Brook Trail Head
DESCRIPTION:Happy Wanderers is a monthly hiking group hosted in collaboration with Maine Health’s Community Health program. In December\, we’ll be exploring the Round the Mountain trail starting from the Thorndike Brook trailhead in Hope.  \nAll Happy Wanderers hikes are approximately two miles long and open to anyone!  \nFootwear that accommodates the current hiking conditions\, such as grips and winter boots\, are recommended. \nDirections: The trailhead is located at 223 Hope Street in Hope (Google maps does not show this accurately). For the Thorndike Brook Trailhead turn onto Hope Street from Route 17 (eight miles north of Rockland)or from Gillette Road. The parking lot is just past the existing parking lot for the Georges Highland Path (¾ miles from Route 17). \n \nVisit https://penbaywaldo.coursestorm.com/course/happy-wanderers-guided-hike3to register.
URL:https://www.coastalmountains.org/event/happy-wanderers-hike-maine-healths-wellness-trail-rockport/
LOCATION:ME
ATTACH;FMTTYPE=image/jpeg:https://www.coastalmountains.org/wp-content/uploads/2023/11/thorndike-scaled.jpeg
END:VEVENT
END:VCALENDAR