BEGIN:VCALENDAR
VERSION:2.0
PRODID:-//Coastal Mountains Land Trust - ECPv6.15.20//NONSGML v1.0//EN
CALSCALE:GREGORIAN
METHOD:PUBLISH
X-WR-CALNAME:Coastal Mountains Land Trust
X-ORIGINAL-URL:https://www.coastalmountains.org
X-WR-CALDESC:Events for Coastal Mountains Land Trust
REFRESH-INTERVAL;VALUE=DURATION:PT1H
X-Robots-Tag:noindex
X-PUBLISHED-TTL:PT1H
BEGIN:VTIMEZONE
TZID:America/New_York
BEGIN:DAYLIGHT
TZOFFSETFROM:-0500
TZOFFSETTO:-0400
TZNAME:EDT
DTSTART:20230312T070000
END:DAYLIGHT
BEGIN:STANDARD
TZOFFSETFROM:-0400
TZOFFSETTO:-0500
TZNAME:EST
DTSTART:20231105T060000
END:STANDARD
BEGIN:DAYLIGHT
TZOFFSETFROM:-0500
TZOFFSETTO:-0400
TZNAME:EDT
DTSTART:20240310T070000
END:DAYLIGHT
BEGIN:STANDARD
TZOFFSETFROM:-0400
TZOFFSETTO:-0500
TZNAME:EST
DTSTART:20241103T060000
END:STANDARD
BEGIN:DAYLIGHT
TZOFFSETFROM:-0500
TZOFFSETTO:-0400
TZNAME:EDT
DTSTART:20250309T070000
END:DAYLIGHT
BEGIN:STANDARD
TZOFFSETFROM:-0400
TZOFFSETTO:-0500
TZNAME:EST
DTSTART:20251102T060000
END:STANDARD
END:VTIMEZONE
BEGIN:VEVENT
DTSTART;TZID=America/New_York:20240223T173000
DTEND;TZID=America/New_York:20240223T190000
DTSTAMP:20260423T141708
CREATED:20231128T010054Z
LAST-MODIFIED:20240219T231601Z
UID:21241-1708709400-1708714800@www.coastalmountains.org
SUMMARY:Full Moon Hike: Beech Hill Preserve\, Rockport
DESCRIPTION:We will hike up the farm road together to the beech nut\, the stone hut on top of the hill.  Bring a headlamp\, but hopefully the moonlight will illuminate our way. It is .6 miles up hill and back down :). 1.2 miles round trip\, with elevation. Bring grips for your boots in case there are slippery conditions. \nLocation: 316 Beech Hill Rd.\, RockportWe will meet at the kiosk in the parking lot. \nTo register: https://penbaywaldo.coursestorm.com/course/happy-wanderers-guided-hike-february-full-moon?page=2 \nAll Happy Wanderers hikes are co- hosted with MaineHealth’s Community Health program.
URL:https://www.coastalmountains.org/event/full-moon-hike-beech-hill-preserve-rockport/
LOCATION:316 Beech Hill Rd. Rockport\, Maine
ATTACH;FMTTYPE=image/jpeg:https://www.coastalmountains.org/wp-content/uploads/2023/11/BNutNight-BWillson.jpg
END:VEVENT
END:VCALENDAR