BEGIN:VCALENDAR
VERSION:2.0
PRODID:-//Coastal Mountains Land Trust - ECPv6.15.20//NONSGML v1.0//EN
CALSCALE:GREGORIAN
METHOD:PUBLISH
X-ORIGINAL-URL:https://www.coastalmountains.org
X-WR-CALDESC:Events for Coastal Mountains Land Trust
REFRESH-INTERVAL;VALUE=DURATION:PT1H
X-Robots-Tag:noindex
X-PUBLISHED-TTL:PT1H
BEGIN:VTIMEZONE
TZID:America/New_York
BEGIN:DAYLIGHT
TZOFFSETFROM:-0500
TZOFFSETTO:-0400
TZNAME:EDT
DTSTART:20230312T070000
END:DAYLIGHT
BEGIN:STANDARD
TZOFFSETFROM:-0400
TZOFFSETTO:-0500
TZNAME:EST
DTSTART:20231105T060000
END:STANDARD
BEGIN:DAYLIGHT
TZOFFSETFROM:-0500
TZOFFSETTO:-0400
TZNAME:EDT
DTSTART:20240310T070000
END:DAYLIGHT
BEGIN:STANDARD
TZOFFSETFROM:-0400
TZOFFSETTO:-0500
TZNAME:EST
DTSTART:20241103T060000
END:STANDARD
BEGIN:DAYLIGHT
TZOFFSETFROM:-0500
TZOFFSETTO:-0400
TZNAME:EDT
DTSTART:20250309T070000
END:DAYLIGHT
BEGIN:STANDARD
TZOFFSETFROM:-0400
TZOFFSETTO:-0500
TZNAME:EST
DTSTART:20251102T060000
END:STANDARD
END:VTIMEZONE
BEGIN:VEVENT
DTSTART;TZID=America/New_York:20240314T100000
DTEND;TZID=America/New_York:20240314T100000
DTSTAMP:20260423T124611
CREATED:20231205T191525Z
LAST-MODIFIED:20240307T154451Z
UID:21622-1710410400-1710410400@www.coastalmountains.org
SUMMARY:RESCHEDULED FROM MARCH 7 - Happy Wanderers: Ducktrap Preserve\, Lincolnville
DESCRIPTION:Join the Community Health team partnering with Coastal Mountains Land Trust to get outdoors and stay active with guided community hikes this year. All levels are welcome\, however\, please leave your pets home. Registering in advance is not required\, however\, you will receive emailed reminders and weather updates if you choose to sign up here. \nTrailhead: Ducktrap Preserve in Lincolnville \nDirections: From Lincolnville Center\, drive north on Route 52 for 3.5 miles. You will descend into a valley before a steep hill. The trailhead is located on the left\, about 100 yards after Route 52 crosses the Ducktrap River. Park along the road. \nRegister here! \nThis hike is 2 miles and the level is easy\, but grips or spikes for shoes are recommended for icy or muddy conditions; please also be aware of ticks during this time of year. \nThe group will meet at trailheads throughout Knox and Waldo Counties on the first Thursday of each month at 10:00AM. \nAll hikes will be led by Coastal Mountains Land Trust staff members and a MaineHealth Community Health staff member.
URL:https://www.coastalmountains.org/event/happy-wanderers-ducktrap-preserve-lincolnville-2/
LOCATION:Ducktrap Preserve Trailhead\, Lincolnville\, ME\, United States
ATTACH;FMTTYPE=image/jpeg:https://www.coastalmountains.org/wp-content/uploads/2023/12/IMG_9264-1-scaled-e1703774874963.jpg
END:VEVENT
END:VCALENDAR