BEGIN:VCALENDAR
VERSION:2.0
PRODID:-//Coastal Mountains Land Trust - ECPv6.15.20//NONSGML v1.0//EN
CALSCALE:GREGORIAN
METHOD:PUBLISH
X-WR-CALNAME:Coastal Mountains Land Trust
X-ORIGINAL-URL:https://www.coastalmountains.org
X-WR-CALDESC:Events for Coastal Mountains Land Trust
REFRESH-INTERVAL;VALUE=DURATION:PT1H
X-Robots-Tag:noindex
X-PUBLISHED-TTL:PT1H
BEGIN:VTIMEZONE
TZID:America/New_York
BEGIN:DAYLIGHT
TZOFFSETFROM:-0500
TZOFFSETTO:-0400
TZNAME:EDT
DTSTART:20250309T070000
END:DAYLIGHT
BEGIN:STANDARD
TZOFFSETFROM:-0400
TZOFFSETTO:-0500
TZNAME:EST
DTSTART:20251102T060000
END:STANDARD
BEGIN:DAYLIGHT
TZOFFSETFROM:-0500
TZOFFSETTO:-0400
TZNAME:EDT
DTSTART:20260308T070000
END:DAYLIGHT
BEGIN:STANDARD
TZOFFSETFROM:-0400
TZOFFSETTO:-0500
TZNAME:EST
DTSTART:20261101T060000
END:STANDARD
BEGIN:DAYLIGHT
TZOFFSETFROM:-0500
TZOFFSETTO:-0400
TZNAME:EDT
DTSTART:20270314T070000
END:DAYLIGHT
BEGIN:STANDARD
TZOFFSETFROM:-0400
TZOFFSETTO:-0500
TZNAME:EST
DTSTART:20271107T060000
END:STANDARD
END:VTIMEZONE
BEGIN:VEVENT
DTSTART;TZID=America/New_York:20260507T100000
DTEND;TZID=America/New_York:20260507T120000
DTSTAMP:20260423T043122
CREATED:20260401T160120Z
LAST-MODIFIED:20260423T082524Z
UID:61211-1778148000-1778155200@www.coastalmountains.org
SUMMARY:Happy Wanderers: Waldo Pound Preserve to Belfast Area Children's Center
DESCRIPTION:Join Coastal Mountains Land Trust (CMLT) and MaineHealth’s Community Health program for a Happy Wanderers hike at 10 a.m. on Thursday\, May 7. The hike will begin at the Waldo Pound Preserve parking lot at 288 Kendall Corner Rd. in Waldo and will offer three route options for varying interests and ability levels\, ranging from 1.4 to 3.4 miles. The shorter options are relatively flat\, while the 3.4-mile option includes about 200 feet of elevation gain. \nAll routes will initially travel along Waldo Pound Preserve Trails to the Hills to Sea Trail and include a stop at the Belfast Area Children’s Center (BACC)’s newly built Learning Landscape\, which is used for nature-based education. This unique area overlooks a marsh and beaver habitat and was designed with young children and strollers in mind. All hiking options offer close-up views of beaver dams and a variety of water birds. \nThe hike will be led by CMLT volunteer Bindy Pendleton and Anne Dreeson\, a longtime BACC staff member. Anne helped organize and build much of the childcare center’s new Learning Landscape. \nTransportation will be provided back to Waldo Pound Preserve for hikers who choose the shortest one-way option. \nAll are welcome! \nBring/wear: hiking footwear\, water\, warm layers\, tick protection\, binoculars (if desired)\, and rain gear (if needed). \nTo register and view the full 2026 Happy Wanderers schedule\, visit: https://penbaywaldo.coursestorm.com/course/happy-wanderers-2026
URL:https://www.coastalmountains.org/event/happy-wanderers-waldo-pound-preserve-to-belfast-area-childrens-center/
LOCATION:288 Kendall Corner Rd\, Belfast\, ME\, United States
ATTACH;FMTTYPE=image/jpeg:https://www.coastalmountains.org/wp-content/uploads/2026/03/mill-brook.jpg
END:VEVENT
END:VCALENDAR