BEGIN:VCALENDAR
VERSION:2.0
PRODID:-//Coastal Mountains Land Trust - ECPv6.15.20//NONSGML v1.0//EN
CALSCALE:GREGORIAN
METHOD:PUBLISH
X-ORIGINAL-URL:https://www.coastalmountains.org
X-WR-CALDESC:Events for Coastal Mountains Land Trust
REFRESH-INTERVAL;VALUE=DURATION:PT1H
X-Robots-Tag:noindex
X-PUBLISHED-TTL:PT1H
BEGIN:VTIMEZONE
TZID:America/New_York
BEGIN:DAYLIGHT
TZOFFSETFROM:-0500
TZOFFSETTO:-0400
TZNAME:EDT
DTSTART:20220313T070000
END:DAYLIGHT
BEGIN:STANDARD
TZOFFSETFROM:-0400
TZOFFSETTO:-0500
TZNAME:EST
DTSTART:20221106T060000
END:STANDARD
BEGIN:DAYLIGHT
TZOFFSETFROM:-0500
TZOFFSETTO:-0400
TZNAME:EDT
DTSTART:20230312T070000
END:DAYLIGHT
BEGIN:STANDARD
TZOFFSETFROM:-0400
TZOFFSETTO:-0500
TZNAME:EST
DTSTART:20231105T060000
END:STANDARD
BEGIN:DAYLIGHT
TZOFFSETFROM:-0500
TZOFFSETTO:-0400
TZNAME:EDT
DTSTART:20240310T070000
END:DAYLIGHT
BEGIN:STANDARD
TZOFFSETFROM:-0400
TZOFFSETTO:-0500
TZNAME:EST
DTSTART:20241103T060000
END:STANDARD
END:VTIMEZONE
BEGIN:VEVENT
DTSTART;TZID=America/New_York:20230706T090000
DTEND;TZID=America/New_York:20230706T110000
DTSTAMP:20260423T232657
CREATED:20230126T213032Z
LAST-MODIFIED:20230626T192452Z
UID:6180-1688634000-1688641200@www.coastalmountains.org
SUMMARY:Happy Wanderers Hike: Millbrook Preserve\, Searsport
DESCRIPTION:Join Coastal Mountains and Maine Health’s Community Health program for our monthly Happy Wanderers Hike! This month\, we’ll be exploring Millbrook Preserve in Searsport! A staff member from Coastal Mountains will join us to discuss our Waldo County Conservation Initiative and our Learning Landscapes program.\nThe Happy Wanderers meet on the first Thursday of each month at the trailhead of a Coastal Mountains Land Trust preserve. The hikes range in location from Rockport to Searsport. Each outing is led by a Coastal Mountains and a Community Health staff member. We hope you can join us! \nFrom Belfast take Route 1 north to Searsport. Turn left onto Church Street and follow the road to a parking lot behind the high school. \nTo register: https://journeytohealth.coursestorm.com/
URL:https://www.coastalmountains.org/event/happy-wanderers-hike-little-river-trail-belfast-2/
LOCATION:ME
ATTACH;FMTTYPE=image/jpeg:https://www.coastalmountains.org/wp-content/uploads/2023/01/IMG_0457-1-scaled-e1678458927641.jpg
END:VEVENT
END:VCALENDAR