BEGIN:VCALENDAR
VERSION:2.0
PRODID:-//Coastal Mountains Land Trust - ECPv6.15.20//NONSGML v1.0//EN
CALSCALE:GREGORIAN
METHOD:PUBLISH
X-WR-CALNAME:Coastal Mountains Land Trust
X-ORIGINAL-URL:https://www.coastalmountains.org
X-WR-CALDESC:Events for Coastal Mountains Land Trust
REFRESH-INTERVAL;VALUE=DURATION:PT1H
X-Robots-Tag:noindex
X-PUBLISHED-TTL:PT1H
BEGIN:VTIMEZONE
TZID:America/New_York
BEGIN:DAYLIGHT
TZOFFSETFROM:-0500
TZOFFSETTO:-0400
TZNAME:EDT
DTSTART:20230312T070000
END:DAYLIGHT
BEGIN:STANDARD
TZOFFSETFROM:-0400
TZOFFSETTO:-0500
TZNAME:EST
DTSTART:20231105T060000
END:STANDARD
BEGIN:DAYLIGHT
TZOFFSETFROM:-0500
TZOFFSETTO:-0400
TZNAME:EDT
DTSTART:20240310T070000
END:DAYLIGHT
BEGIN:STANDARD
TZOFFSETFROM:-0400
TZOFFSETTO:-0500
TZNAME:EST
DTSTART:20241103T060000
END:STANDARD
BEGIN:DAYLIGHT
TZOFFSETFROM:-0500
TZOFFSETTO:-0400
TZNAME:EDT
DTSTART:20250309T070000
END:DAYLIGHT
BEGIN:STANDARD
TZOFFSETFROM:-0400
TZOFFSETTO:-0500
TZNAME:EST
DTSTART:20251102T060000
END:STANDARD
END:VTIMEZONE
BEGIN:VEVENT
DTSTART;TZID=America/New_York:20240502T100000
DTEND;TZID=America/New_York:20240502T120000
DTSTAMP:20260423T073713
CREATED:20231205T211555Z
LAST-MODIFIED:20240415T200249Z
UID:21640-1714644000-1714651200@www.coastalmountains.org
SUMMARY:Happy Wanderers: Little River Trail
DESCRIPTION:The little river trail is 7+ miles\, so we will do an out-and-back section\, totaling approx. 2 – 4+  miles. We will have 2 hiking groups\, so you can choose your challenge! \nThe trail is beautiful\, ambling along the river with some ups and downs. The terrain is considered moderate-slightly difficult (personal perspective included).  Bring hiking poles\, if you would like. \nWe will meet at the parking lot of the Belfast Water District. \nAddress:\nBelfast Water District\n285 Northport Ave (Rt. 1)\,\nBelfast\, ME 04915 \nThe little river trail is 7+ miles\, so we will do an out-and-back section\, totaling approx. 2 miles. \nThe trail is beautiful\, ambling along the river with some ups and downs. The terrain is considered moderate-slightly difficult (personal perspective included).  Bring hiking poles\, if you would like.
URL:https://www.coastalmountains.org/event/happy-wanderers-little-river-trail-2/
LOCATION:285 Northport Ave\, Belfast\, ME\, United States
ATTACH;FMTTYPE=image/jpeg:https://www.coastalmountains.org/wp-content/uploads/2023/12/little-river-trail-courtesy-of-El-Cholabels.jpg
END:VEVENT
END:VCALENDAR