BEGIN:VCALENDAR
VERSION:2.0
PRODID:-//Coastal Mountains Land Trust - ECPv6.15.20//NONSGML v1.0//EN
CALSCALE:GREGORIAN
METHOD:PUBLISH
X-WR-CALNAME:Coastal Mountains Land Trust
X-ORIGINAL-URL:https://www.coastalmountains.org
X-WR-CALDESC:Events for Coastal Mountains Land Trust
REFRESH-INTERVAL;VALUE=DURATION:PT1H
X-Robots-Tag:noindex
X-PUBLISHED-TTL:PT1H
BEGIN:VTIMEZONE
TZID:America/New_York
BEGIN:DAYLIGHT
TZOFFSETFROM:-0500
TZOFFSETTO:-0400
TZNAME:EDT
DTSTART:20230312T070000
END:DAYLIGHT
BEGIN:STANDARD
TZOFFSETFROM:-0400
TZOFFSETTO:-0500
TZNAME:EST
DTSTART:20231105T060000
END:STANDARD
BEGIN:DAYLIGHT
TZOFFSETFROM:-0500
TZOFFSETTO:-0400
TZNAME:EDT
DTSTART:20240310T070000
END:DAYLIGHT
BEGIN:STANDARD
TZOFFSETFROM:-0400
TZOFFSETTO:-0500
TZNAME:EST
DTSTART:20241103T060000
END:STANDARD
BEGIN:DAYLIGHT
TZOFFSETFROM:-0500
TZOFFSETTO:-0400
TZNAME:EDT
DTSTART:20250309T070000
END:DAYLIGHT
BEGIN:STANDARD
TZOFFSETFROM:-0400
TZOFFSETTO:-0500
TZNAME:EST
DTSTART:20251102T060000
END:STANDARD
END:VTIMEZONE
BEGIN:VEVENT
DTSTART;TZID=America/New_York:20240606T100000
DTEND;TZID=America/New_York:20240606T120000
DTSTAMP:20260423T055619
CREATED:20231205T214612Z
LAST-MODIFIED:20240606T154604Z
UID:21645-1717668000-1717675200@www.coastalmountains.org
SUMMARY:Happy Wanderers: McLellan-Poor Preserve in Northport
DESCRIPTION:Our monthly hiking group\, the Happy Wanderers\, will be exploring the McLellan-Poor Preserve in Northport on June 6th! All are welcome to join!\nHappy Wanderers is hosted in collaboration with Maine Health’s Community Health program and Coastal Mountains Land Trust. Each hike takes place at a different trail in Knox or Waldo County and is approximately two miles long.\nContact maevec@coastalmountains.org to register. \nDirections: From Belfast\, take Route 1 south. The preserve is 100 yards south of the Belfast/Northport town line. Parking is on the right
URL:https://www.coastalmountains.org/event/happy-wanderers-mclellan-poor-northport-2/
LOCATION:ME
ATTACH;FMTTYPE=image/jpeg:https://www.coastalmountains.org/wp-content/uploads/2023/12/McLellan-Poor-2017.jpg
END:VEVENT
END:VCALENDAR