BEGIN:VCALENDAR
VERSION:2.0
PRODID:-//Coastal Mountains Land Trust - ECPv6.15.20//NONSGML v1.0//EN
CALSCALE:GREGORIAN
METHOD:PUBLISH
X-ORIGINAL-URL:https://www.coastalmountains.org
X-WR-CALDESC:Events for Coastal Mountains Land Trust
REFRESH-INTERVAL;VALUE=DURATION:PT1H
X-Robots-Tag:noindex
X-PUBLISHED-TTL:PT1H
BEGIN:VTIMEZONE
TZID:America/New_York
BEGIN:DAYLIGHT
TZOFFSETFROM:-0500
TZOFFSETTO:-0400
TZNAME:EDT
DTSTART:20230312T070000
END:DAYLIGHT
BEGIN:STANDARD
TZOFFSETFROM:-0400
TZOFFSETTO:-0500
TZNAME:EST
DTSTART:20231105T060000
END:STANDARD
BEGIN:DAYLIGHT
TZOFFSETFROM:-0500
TZOFFSETTO:-0400
TZNAME:EDT
DTSTART:20240310T070000
END:DAYLIGHT
BEGIN:STANDARD
TZOFFSETFROM:-0400
TZOFFSETTO:-0500
TZNAME:EST
DTSTART:20241103T060000
END:STANDARD
BEGIN:DAYLIGHT
TZOFFSETFROM:-0500
TZOFFSETTO:-0400
TZNAME:EDT
DTSTART:20250309T070000
END:DAYLIGHT
BEGIN:STANDARD
TZOFFSETFROM:-0400
TZOFFSETTO:-0500
TZNAME:EST
DTSTART:20251102T060000
END:STANDARD
END:VTIMEZONE
BEGIN:VEVENT
DTSTART;TZID=America/New_York:20240801T100000
DTEND;TZID=America/New_York:20240801T120000
DTSTAMP:20260421T175307
CREATED:20231205T214612Z
LAST-MODIFIED:20240801T153032Z
UID:21649-1722506400-1722513600@www.coastalmountains.org
SUMMARY:Happy Wanderers: Ragged Mountain\, Hope
DESCRIPTION:All are welcome to join us for a summery hike along theRound the Mountain Trail at 10a.m. on Thursday\, August 1st! We willmeet at the Thorndike Brook Trailhead (223 Hope Rd.) and hike approximately 2miles total on an out-and-back path.  \nHappy Wanderers is our monthly hiking group hosted incollaboration with Maine Health’s Community Health program. These hikes takeplace at different trails throughout Knox and Waldo Counties. Each walk is ledby a staff member from Coastal Mountains Land Trust and Community Health.  \nSummer is a beautiful time to observe wildflowers\,butterflies\, and mushrooms along this awesome\, multi-use trail! Contact maevec@coastalmountains.org toregister or learn more. 
URL:https://www.coastalmountains.org/event/happy-wanderers-ragged-mountain-hope/
LOCATION:223 Hope St\, Rockport\, ME\, United States
ATTACH;FMTTYPE=image/jpeg:https://www.coastalmountains.org/wp-content/uploads/2021/06/Round-the-Mountain-Trail-scaled-e1713975806618.jpg
END:VEVENT
END:VCALENDAR