BEGIN:VCALENDAR
VERSION:2.0
PRODID:-//Coastal Mountains Land Trust - ECPv6.15.20//NONSGML v1.0//EN
CALSCALE:GREGORIAN
METHOD:PUBLISH
X-WR-CALNAME:Coastal Mountains Land Trust
X-ORIGINAL-URL:https://www.coastalmountains.org
X-WR-CALDESC:Events for Coastal Mountains Land Trust
REFRESH-INTERVAL;VALUE=DURATION:PT1H
X-Robots-Tag:noindex
X-PUBLISHED-TTL:PT1H
BEGIN:VTIMEZONE
TZID:America/New_York
BEGIN:DAYLIGHT
TZOFFSETFROM:-0500
TZOFFSETTO:-0400
TZNAME:EDT
DTSTART:20230312T070000
END:DAYLIGHT
BEGIN:STANDARD
TZOFFSETFROM:-0400
TZOFFSETTO:-0500
TZNAME:EST
DTSTART:20231105T060000
END:STANDARD
BEGIN:DAYLIGHT
TZOFFSETFROM:-0500
TZOFFSETTO:-0400
TZNAME:EDT
DTSTART:20240310T070000
END:DAYLIGHT
BEGIN:STANDARD
TZOFFSETFROM:-0400
TZOFFSETTO:-0500
TZNAME:EST
DTSTART:20241103T060000
END:STANDARD
BEGIN:DAYLIGHT
TZOFFSETFROM:-0500
TZOFFSETTO:-0400
TZNAME:EDT
DTSTART:20250309T070000
END:DAYLIGHT
BEGIN:STANDARD
TZOFFSETFROM:-0400
TZOFFSETTO:-0500
TZNAME:EST
DTSTART:20251102T060000
END:STANDARD
END:VTIMEZONE
BEGIN:VEVENT
DTSTART;TZID=America/New_York:20241003T100000
DTEND;TZID=America/New_York:20241003T120000
DTSTAMP:20260421T144812
CREATED:20231205T221607Z
LAST-MODIFIED:20241003T153022Z
UID:21666-1727949600-1727956800@www.coastalmountains.org
SUMMARY:Happy Wanderers Hike: Hodson Preserve
DESCRIPTION:Join us for an autumnal community hike at Hodson Preserve in Camden on October 3rd at 10:00am!\nAll are welcome! This out-and-back hike will cover approximately 2.5 miles of trail with some elevation and rewarding views over a blueberry field. \nHappy Wanderers Hikes are held on the first Thursday of each month and are led by staff members from Coastal Mountains Land Trust and Maine Health’s Community Health program. \nContact maevec@coastalmountains.org to register and learn more!
URL:https://www.coastalmountains.org/event/happy-wanderers-hodson/
LOCATION:ME
ATTACH;FMTTYPE=image/jpeg:https://www.coastalmountains.org/wp-content/uploads/2024/08/Hodson.jpg
END:VEVENT
END:VCALENDAR