BEGIN:VCALENDAR
VERSION:2.0
PRODID:-//Coastal Mountains Land Trust - ECPv6.15.20//NONSGML v1.0//EN
CALSCALE:GREGORIAN
METHOD:PUBLISH
X-ORIGINAL-URL:https://www.coastalmountains.org
X-WR-CALDESC:Events for Coastal Mountains Land Trust
REFRESH-INTERVAL;VALUE=DURATION:PT1H
X-Robots-Tag:noindex
X-PUBLISHED-TTL:PT1H
BEGIN:VTIMEZONE
TZID:America/New_York
BEGIN:DAYLIGHT
TZOFFSETFROM:-0500
TZOFFSETTO:-0400
TZNAME:EDT
DTSTART:20230312T070000
END:DAYLIGHT
BEGIN:STANDARD
TZOFFSETFROM:-0400
TZOFFSETTO:-0500
TZNAME:EST
DTSTART:20231105T060000
END:STANDARD
BEGIN:DAYLIGHT
TZOFFSETFROM:-0500
TZOFFSETTO:-0400
TZNAME:EDT
DTSTART:20240310T070000
END:DAYLIGHT
BEGIN:STANDARD
TZOFFSETFROM:-0400
TZOFFSETTO:-0500
TZNAME:EST
DTSTART:20241103T060000
END:STANDARD
BEGIN:DAYLIGHT
TZOFFSETFROM:-0500
TZOFFSETTO:-0400
TZNAME:EDT
DTSTART:20250309T070000
END:DAYLIGHT
BEGIN:STANDARD
TZOFFSETFROM:-0400
TZOFFSETTO:-0500
TZNAME:EST
DTSTART:20251102T060000
END:STANDARD
END:VTIMEZONE
BEGIN:VEVENT
DTSTART;TZID=America/New_York:20241205T100000
DTEND;TZID=America/New_York:20241205T113000
DTSTAMP:20260421T115325
CREATED:20240827T173022Z
LAST-MODIFIED:20241204T153329Z
UID:33470-1733392800-1733398200@www.coastalmountains.org
SUMMARY:Happy Wanderers Hike: Beech Hill Preserve - RESCHEDULED TO FRIDAY\, DECEMBER 6
DESCRIPTION:RESCHEDULED TO FRIDAY\, DECEMBER 6 DUE TO WEATHER FORECAST!! \nAll are welcome to join us on an early winter walk at Beech Hill Preserve on Thursday\, December 5th! We will meet at 10a.m. at the main parking lot located at 316 Beech Hill Rd. We will hike up the main farm road\, a gravel path with a steady elevation gain for about 0.7 miles. Atop the hill\, we will enjoy coffee and tea!\nOur Happy Wanderers hikes are held on the first Thursday of each month. These hikes are led by staff members from Coastal Mountains Land Trust and Maine Health’s Community Health program.\nContact maevec@coastalmountains.org to register and learn more!
URL:https://www.coastalmountains.org/event/happy-wanderers-hike-beech-hill-preserve/
LOCATION:316 Beech Hill Rd\, Rockport\, ME\, United States
ATTACH;FMTTYPE=image/jpeg:https://www.coastalmountains.org/wp-content/uploads/2022/09/sym1-1.jpg
END:VEVENT
BEGIN:VEVENT
DTSTART;TZID=America/New_York:20241206T100000
DTEND;TZID=America/New_York:20241206T113000
DTSTAMP:20260421T115325
CREATED:20241204T154608Z
LAST-MODIFIED:20241206T161512Z
UID:38603-1733479200-1733484600@www.coastalmountains.org
SUMMARY:Happy Wanderers Hike: Beech Hill Preserve
DESCRIPTION:All are welcome to join us on an early winter walk at Beech Hill Preserve on Friday December 6th! We will meet at 10a.m. at the main parking lot located at 316 Beech Hill Rd. We will hike up the main farm road\, a gravel path with a steady elevation gain for about 0.7 miles. Atop the hill\, we will enjoy coffee and tea! \nOur Happy Wanderers hikes are held on the first Thursday of each month. These hikes are led by staff members from Coastal Mountains Land Trust and Maine Health's Community Health program.  \nContact maevec@coastalmountains.org to register and learn more!
URL:https://www.coastalmountains.org/event/happy-wanderers-hike-beech-hill-preserve-2/
LOCATION:316 Beech Hill Rd\, Rockport\, ME\, United States
END:VEVENT
END:VCALENDAR