BEGIN:VCALENDAR
VERSION:2.0
PRODID:-//Coastal Mountains Land Trust - ECPv6.15.20//NONSGML v1.0//EN
CALSCALE:GREGORIAN
METHOD:PUBLISH
X-WR-CALNAME:Coastal Mountains Land Trust
X-ORIGINAL-URL:https://www.coastalmountains.org
X-WR-CALDESC:Events for Coastal Mountains Land Trust
REFRESH-INTERVAL;VALUE=DURATION:PT1H
X-Robots-Tag:noindex
X-PUBLISHED-TTL:PT1H
BEGIN:VTIMEZONE
TZID:America/New_York
BEGIN:DAYLIGHT
TZOFFSETFROM:-0500
TZOFFSETTO:-0400
TZNAME:EDT
DTSTART:20240310T070000
END:DAYLIGHT
BEGIN:STANDARD
TZOFFSETFROM:-0400
TZOFFSETTO:-0500
TZNAME:EST
DTSTART:20241103T060000
END:STANDARD
BEGIN:DAYLIGHT
TZOFFSETFROM:-0500
TZOFFSETTO:-0400
TZNAME:EDT
DTSTART:20250309T070000
END:DAYLIGHT
BEGIN:STANDARD
TZOFFSETFROM:-0400
TZOFFSETTO:-0500
TZNAME:EST
DTSTART:20251102T060000
END:STANDARD
BEGIN:DAYLIGHT
TZOFFSETFROM:-0500
TZOFFSETTO:-0400
TZNAME:EDT
DTSTART:20260308T070000
END:DAYLIGHT
BEGIN:STANDARD
TZOFFSETFROM:-0400
TZOFFSETTO:-0500
TZNAME:EST
DTSTART:20261101T060000
END:STANDARD
END:VTIMEZONE
BEGIN:VEVENT
DTSTART;TZID=America/New_York:20250116T100000
DTEND;TZID=America/New_York:20250116T120000
DTSTAMP:20260421T102537
CREATED:20241216T191656Z
LAST-MODIFIED:20250116T164526Z
UID:39146-1737021600-1737028800@www.coastalmountains.org
SUMMARY:Happy Wanderers Hike at Head of Tide Preserve
DESCRIPTION:All are welcome to join us for our first Happy Wanderers hike of 2025! We will be traversing the trails of Head of Tide Preserve in Belfast on Thursday\, January 16th at 10am. \nThis hike will follow a 1.5 mile loop trail on level ground. Warm layers and water are always recommended! \nHappy Wanderers is a collaboration between Coastal Mountains Land Trust and Maine Health’s Community Health program. On the first Thursday of each month\, we hike a different trail in Knox or Waldo County.\nContact maevec@coastalmountains to learn more.
URL:https://www.coastalmountains.org/event/happy-wanderers-hike-at-head-of-tide-preserve/
LOCATION:Head Of Tide Nature Preserve\, 91 Dock Rd\, Rangeley\, ME\, United States
ATTACH;FMTTYPE=image/jpeg:https://www.coastalmountains.org/wp-content/uploads/2024/12/Birding3.jpg
END:VEVENT
END:VCALENDAR