BEGIN:VCALENDAR
VERSION:2.0
PRODID:-//Coastal Mountains Land Trust - ECPv6.15.20//NONSGML v1.0//EN
CALSCALE:GREGORIAN
METHOD:PUBLISH
X-ORIGINAL-URL:https://www.coastalmountains.org
X-WR-CALDESC:Events for Coastal Mountains Land Trust
REFRESH-INTERVAL;VALUE=DURATION:PT1H
X-Robots-Tag:noindex
X-PUBLISHED-TTL:PT1H
BEGIN:VTIMEZONE
TZID:America/New_York
BEGIN:DAYLIGHT
TZOFFSETFROM:-0500
TZOFFSETTO:-0400
TZNAME:EDT
DTSTART:20240310T070000
END:DAYLIGHT
BEGIN:STANDARD
TZOFFSETFROM:-0400
TZOFFSETTO:-0500
TZNAME:EST
DTSTART:20241103T060000
END:STANDARD
BEGIN:DAYLIGHT
TZOFFSETFROM:-0500
TZOFFSETTO:-0400
TZNAME:EDT
DTSTART:20250309T070000
END:DAYLIGHT
BEGIN:STANDARD
TZOFFSETFROM:-0400
TZOFFSETTO:-0500
TZNAME:EST
DTSTART:20251102T060000
END:STANDARD
BEGIN:DAYLIGHT
TZOFFSETFROM:-0500
TZOFFSETTO:-0400
TZNAME:EDT
DTSTART:20260308T070000
END:DAYLIGHT
BEGIN:STANDARD
TZOFFSETFROM:-0400
TZOFFSETTO:-0500
TZNAME:EST
DTSTART:20261101T060000
END:STANDARD
END:VTIMEZONE
BEGIN:VEVENT
DTSTART;TZID=America/New_York:20250206T100000
DTEND;TZID=America/New_York:20250206T120000
DTSTAMP:20260421T090313
CREATED:20250121T191543Z
LAST-MODIFIED:20250206T164552Z
UID:40810-1738836000-1738843200@www.coastalmountains.org
SUMMARY:Happy Wanderers Hike: Cameron Mountain Trail
DESCRIPTION:Join us for a come-all hike along the Cameron Mountain Trail in Camden Hills State Park! We will meet at the Youngtown Rd. parking and trailhead at 10a.m. on Thursday\, February 6th.  \nThis hike will cover about two miles with some elevation. Good shoes or boots\, hiking poles\, and water are always recommended.  \nHappy Wanderers hikes are held monthly by Coastal Mountains Land Trust and Maine Health’s Community Health program. Each hike features a different trail in Knox or Waldo Counties.  \nContact maevec@coastalmountains.org with any questions.  \nDirections: From Camden\, take Route 52 to Youngtown Road. A parking area will be on the righthand side before the end Youngtown Rd\, just before Route 173. A google maps pin can be found here: https://maps.app.goo.gl/CijJhEHKDz62X8c1A
URL:https://www.coastalmountains.org/event/happy-wanderers-hike-cameron-mountain-trail/
LOCATION:ME
ATTACH;FMTTYPE=image/jpeg:https://www.coastalmountains.org/wp-content/uploads/2025/01/IMG_7223-scaled.jpg
END:VEVENT
END:VCALENDAR