BEGIN:VCALENDAR
VERSION:2.0
PRODID:-//Coastal Mountains Land Trust - ECPv6.15.20//NONSGML v1.0//EN
CALSCALE:GREGORIAN
METHOD:PUBLISH
X-WR-CALNAME:Coastal Mountains Land Trust
X-ORIGINAL-URL:https://www.coastalmountains.org
X-WR-CALDESC:Events for Coastal Mountains Land Trust
REFRESH-INTERVAL;VALUE=DURATION:PT1H
X-Robots-Tag:noindex
X-PUBLISHED-TTL:PT1H
BEGIN:VTIMEZONE
TZID:America/New_York
BEGIN:DAYLIGHT
TZOFFSETFROM:-0500
TZOFFSETTO:-0400
TZNAME:EDT
DTSTART:20240310T070000
END:DAYLIGHT
BEGIN:STANDARD
TZOFFSETFROM:-0400
TZOFFSETTO:-0500
TZNAME:EST
DTSTART:20241103T060000
END:STANDARD
BEGIN:DAYLIGHT
TZOFFSETFROM:-0500
TZOFFSETTO:-0400
TZNAME:EDT
DTSTART:20250309T070000
END:DAYLIGHT
BEGIN:STANDARD
TZOFFSETFROM:-0400
TZOFFSETTO:-0500
TZNAME:EST
DTSTART:20251102T060000
END:STANDARD
BEGIN:DAYLIGHT
TZOFFSETFROM:-0500
TZOFFSETTO:-0400
TZNAME:EDT
DTSTART:20260308T070000
END:DAYLIGHT
BEGIN:STANDARD
TZOFFSETFROM:-0400
TZOFFSETTO:-0500
TZNAME:EST
DTSTART:20261101T060000
END:STANDARD
END:VTIMEZONE
BEGIN:VEVENT
DTSTART;TZID=America/New_York:20250403T100000
DTEND;TZID=America/New_York:20250403T113000
DTSTAMP:20260421T060922
CREATED:20250128T184522Z
LAST-MODIFIED:20250403T150013Z
UID:41181-1743674400-1743679800@www.coastalmountains.org
SUMMARY:Happy Wanderers Hike at Appleton Preserve (GRLT)
DESCRIPTION:Join us for a hike along the Appleton Preserve\, owned and maintained by our friends at Georges River Land Trust (GRLT). All are welcome!\nThe hike will cover approximately 2 miles of level ground along the St. George river.\nRegister HERE\nHappy Wanderers hikes are held monthly in collaboration with Maine Health’s Community Health program. Each hike explores a different trail in Knox or Waldo County. Everyone is welcome!\nDirections: From the intersection of Routes 131 and 105 in Appleton\, go east on Route 105 for ½ mile. Parking is available at the ME Inland Fisheries & Wildlife gravel lot on the right\, just before the bridge across the Georges River. Please do not park in the Blue Crow Studio driveway or use it as a turnaround.
URL:https://www.coastalmountains.org/event/happy-wanderers-hike-at-appleton-preserve-grlt/
LOCATION:Appleton Preserve\, 265 Camden Rd\, Union\, ME\, United States
ATTACH;FMTTYPE=image/png:https://www.coastalmountains.org/wp-content/uploads/2025/01/appleton-preserve.png
END:VEVENT
END:VCALENDAR