BEGIN:VCALENDAR
VERSION:2.0
PRODID:-//Coastal Mountains Land Trust - ECPv6.15.20//NONSGML v1.0//EN
CALSCALE:GREGORIAN
METHOD:PUBLISH
X-ORIGINAL-URL:https://www.coastalmountains.org
X-WR-CALDESC:Events for Coastal Mountains Land Trust
REFRESH-INTERVAL;VALUE=DURATION:PT1H
X-Robots-Tag:noindex
X-PUBLISHED-TTL:PT1H
BEGIN:VTIMEZONE
TZID:America/New_York
BEGIN:DAYLIGHT
TZOFFSETFROM:-0500
TZOFFSETTO:-0400
TZNAME:EDT
DTSTART:20240310T070000
END:DAYLIGHT
BEGIN:STANDARD
TZOFFSETFROM:-0400
TZOFFSETTO:-0500
TZNAME:EST
DTSTART:20241103T060000
END:STANDARD
BEGIN:DAYLIGHT
TZOFFSETFROM:-0500
TZOFFSETTO:-0400
TZNAME:EDT
DTSTART:20250309T070000
END:DAYLIGHT
BEGIN:STANDARD
TZOFFSETFROM:-0400
TZOFFSETTO:-0500
TZNAME:EST
DTSTART:20251102T060000
END:STANDARD
BEGIN:DAYLIGHT
TZOFFSETFROM:-0500
TZOFFSETTO:-0400
TZNAME:EDT
DTSTART:20260308T070000
END:DAYLIGHT
BEGIN:STANDARD
TZOFFSETFROM:-0400
TZOFFSETTO:-0500
TZNAME:EST
DTSTART:20261101T060000
END:STANDARD
END:VTIMEZONE
BEGIN:VEVENT
DTSTART;TZID=America/New_York:20250501T100000
DTEND;TZID=America/New_York:20250501T120000
DTSTAMP:20260421T044540
CREATED:20250324T161514Z
LAST-MODIFIED:20250501T154546Z
UID:44148-1746093600-1746100800@www.coastalmountains.org
SUMMARY:Happy Wanderers Hike: Haystack Mountain
DESCRIPTION:Join Coastal Mountains Land Trust and Maine Health’s Community Health program for a Happy Wanderers Hike at 10:00 a.m. on Thursday\, May 1 at Haystack Mountain in Liberty. \nAll are welcome! This hike explores a 1.1-mile loop trail with moderate elevation. Hiking boots and plenty of water are encouraged. \nHaystack Mountain is owned and cared for by Midcoast Conservancy. \nContact Leah Trommer at leaht@coastalmountains.org with questions. \nDirections: From Rt. 3 between South China and Belfast\, take Rt. 220 south for 0.8 miles. Turn left at the sign for the Vena M. Roberts Memorial Ball Field. Park in the parking lot behind Walker Health Center in Liberty. The trailhead is at the far corner\, past the ball field. \nGo to penbaywaldo.coursestorm.com to register and receive updates about the event. \n#### \nCoastal Mountains Land Trust has worked since 1986 to permanently conserve land to benefit the natural and human communities of the western Penobscot Bay. The Land Trust has protected over 13\,000 acres\, offering 55 miles of trails for public recreation. \n#### \nCommunity Health programming is offered by PenBay Medical Center’s Community Health Improvement Team and is focused on preventing and reducing chronic disease and promoting the adoption of healthy lifestyles.
URL:https://www.coastalmountains.org/event/happy-wanderers-hike-haystack-mountain/
LOCATION:Haystack Mountain\, Liberty\, Maine
ATTACH;FMTTYPE=image/png:https://www.coastalmountains.org/wp-content/uploads/2025/03/Haystack-Mountain.png
END:VEVENT
END:VCALENDAR